BEGIN:VCALENDAR
VERSION:2.0
PRODID:-//Dachverband des Deutschen Tchoukballs - ECPv6.15.20//NONSGML v1.0//EN
CALSCALE:GREGORIAN
METHOD:PUBLISH
X-ORIGINAL-URL:https://tchoukball-deutschland.de
X-WR-CALDESC:Veranstaltungen für Dachverband des Deutschen Tchoukballs
REFRESH-INTERVAL;VALUE=DURATION:PT1H
X-Robots-Tag:noindex
X-PUBLISHED-TTL:PT1H
BEGIN:VTIMEZONE
TZID:Europe/Berlin
BEGIN:DAYLIGHT
TZOFFSETFROM:+0100
TZOFFSETTO:+0200
TZNAME:CEST
DTSTART:20250330T010000
END:DAYLIGHT
BEGIN:STANDARD
TZOFFSETFROM:+0200
TZOFFSETTO:+0100
TZNAME:CET
DTSTART:20251026T010000
END:STANDARD
BEGIN:DAYLIGHT
TZOFFSETFROM:+0100
TZOFFSETTO:+0200
TZNAME:CEST
DTSTART:20260329T010000
END:DAYLIGHT
BEGIN:STANDARD
TZOFFSETFROM:+0200
TZOFFSETTO:+0100
TZNAME:CET
DTSTART:20261025T010000
END:STANDARD
BEGIN:DAYLIGHT
TZOFFSETFROM:+0100
TZOFFSETTO:+0200
TZNAME:CEST
DTSTART:20270328T010000
END:DAYLIGHT
BEGIN:STANDARD
TZOFFSETFROM:+0200
TZOFFSETTO:+0100
TZNAME:CET
DTSTART:20271031T010000
END:STANDARD
END:VTIMEZONE
BEGIN:VEVENT
DTSTART;VALUE=DATE:20260620
DTEND;VALUE=DATE:20260622
DTSTAMP:20260419T204408
CREATED:20250629T184001Z
LAST-MODIFIED:20250822T135109Z
UID:1356-1781913600-1782086399@tchoukball-deutschland.de
SUMMARY:Deutsche Meisterschaft 2026
DESCRIPTION:Der Dachverband des Deutschen Tchoukballs (DDT) lädt ein zu den Deutschen Meisterschaften in Erfurt. \nNähere Informationen folgen in Kürze. Anmeldungen werden bereits unter vorstand(at)tchoukball-deutschland.de entgegen genommen.
URL:https://tchoukball-deutschland.de/veranstaltung/deutsche-meisterschaft-2026/
LOCATION:Riethsporthalle Erfurt\, Essener Straße 20\, Erfurt\, Thüringen\, 99089
CATEGORIES:Verbandsaktivität
ORGANIZER;CN="SG Urbich 1984 e.V.":MAILTO:info@sg-urbich.de
END:VEVENT
END:VCALENDAR