BEGIN:VCALENDAR
VERSION:2.0
PRODID:-//Dachverband des Deutschen Tchoukballs - ECPv6.15.20//NONSGML v1.0//EN
CALSCALE:GREGORIAN
METHOD:PUBLISH
X-WR-CALNAME:Dachverband des Deutschen Tchoukballs
X-ORIGINAL-URL:https://tchoukball-deutschland.de
X-WR-CALDESC:Veranstaltungen für Dachverband des Deutschen Tchoukballs
REFRESH-INTERVAL;VALUE=DURATION:PT1H
X-Robots-Tag:noindex
X-PUBLISHED-TTL:PT1H
BEGIN:VTIMEZONE
TZID:Europe/Berlin
BEGIN:DAYLIGHT
TZOFFSETFROM:+0100
TZOFFSETTO:+0200
TZNAME:CEST
DTSTART:20250330T010000
END:DAYLIGHT
BEGIN:STANDARD
TZOFFSETFROM:+0200
TZOFFSETTO:+0100
TZNAME:CET
DTSTART:20251026T010000
END:STANDARD
BEGIN:DAYLIGHT
TZOFFSETFROM:+0100
TZOFFSETTO:+0200
TZNAME:CEST
DTSTART:20260329T010000
END:DAYLIGHT
BEGIN:STANDARD
TZOFFSETFROM:+0200
TZOFFSETTO:+0100
TZNAME:CET
DTSTART:20261025T010000
END:STANDARD
BEGIN:DAYLIGHT
TZOFFSETFROM:+0100
TZOFFSETTO:+0200
TZNAME:CEST
DTSTART:20270328T010000
END:DAYLIGHT
BEGIN:STANDARD
TZOFFSETFROM:+0200
TZOFFSETTO:+0100
TZNAME:CET
DTSTART:20271031T010000
END:STANDARD
END:VTIMEZONE
BEGIN:VEVENT
DTSTART;TZID=Europe/Berlin:20260530T090000
DTEND;TZID=Europe/Berlin:20260530T170000
DTSTAMP:20260419T184626
CREATED:20250901T104005Z
LAST-MODIFIED:20260323T154752Z
UID:1867-1780131600-1780160400@tchoukball-deutschland.de
SUMMARY:6. Spieltag der TTBL
DESCRIPTION:Der Thüringer Tchoukball Verband lädt zum sechsten Spieltag in der Saison 2025/2026 nach Weimar ein. 
URL:https://tchoukball-deutschland.de/veranstaltung/6-spieltag-der-ttbl/
LOCATION:Sporthalle Weimar West\, Warschauer Str. 30\, Weimar\, Thüringen\, 99427\, Germany
CATEGORIES:Vereinsaktivität
ORGANIZER;CN="Th%C3%BCringer Tchouballverband e.V.":MAILTO:info@ttbv.de
END:VEVENT
END:VCALENDAR