BEGIN:VCALENDAR
VERSION:2.0
PRODID:-//Dachverband des Deutschen Tchoukballs - ECPv6.15.20//NONSGML v1.0//EN
CALSCALE:GREGORIAN
METHOD:PUBLISH
X-ORIGINAL-URL:https://tchoukball-deutschland.de
X-WR-CALDESC:Veranstaltungen für Dachverband des Deutschen Tchoukballs
REFRESH-INTERVAL;VALUE=DURATION:PT1H
X-Robots-Tag:noindex
X-PUBLISHED-TTL:PT1H
BEGIN:VTIMEZONE
TZID:Europe/Berlin
BEGIN:DAYLIGHT
TZOFFSETFROM:+0100
TZOFFSETTO:+0200
TZNAME:CEST
DTSTART:20240331T010000
END:DAYLIGHT
BEGIN:STANDARD
TZOFFSETFROM:+0200
TZOFFSETTO:+0100
TZNAME:CET
DTSTART:20241027T010000
END:STANDARD
BEGIN:DAYLIGHT
TZOFFSETFROM:+0100
TZOFFSETTO:+0200
TZNAME:CEST
DTSTART:20250330T010000
END:DAYLIGHT
BEGIN:STANDARD
TZOFFSETFROM:+0200
TZOFFSETTO:+0100
TZNAME:CET
DTSTART:20251026T010000
END:STANDARD
BEGIN:DAYLIGHT
TZOFFSETFROM:+0100
TZOFFSETTO:+0200
TZNAME:CEST
DTSTART:20260329T010000
END:DAYLIGHT
BEGIN:STANDARD
TZOFFSETFROM:+0200
TZOFFSETTO:+0100
TZNAME:CET
DTSTART:20261025T010000
END:STANDARD
END:VTIMEZONE
BEGIN:VEVENT
DTSTART;TZID=Europe/Berlin:20251213T080000
DTEND;TZID=Europe/Berlin:20251214T170000
DTSTAMP:20260419T204455
CREATED:20250825T141309Z
LAST-MODIFIED:20250825T141309Z
UID:1846-1765612800-1765731600@tchoukball-deutschland.de
SUMMARY:Vereinsturnier in Genf - geneva indoors
DESCRIPTION:
URL:https://tchoukball-deutschland.de/veranstaltung/vereinsturnier-in-genf-geneva-indoors/
CATEGORIES:Vereinsaktivität
END:VEVENT
BEGIN:VEVENT
DTSTART;VALUE=DATE:20251218
DTEND;VALUE=DATE:20251222
DTSTAMP:20260419T204455
CREATED:20250629T183318Z
LAST-MODIFIED:20250825T141142Z
UID:1352-1766016000-1766361599@tchoukball-deutschland.de
SUMMARY:Nation Cup in Genf - geneva indoors
DESCRIPTION:
URL:https://tchoukball-deutschland.de/veranstaltung/nation-cup-in-genf/
CATEGORIES:Verbandsaktivität
END:VEVENT
END:VCALENDAR