BEGIN:VCALENDAR
VERSION:2.0
PRODID:-//Dachverband des Deutschen Tchoukballs - ECPv6.15.20//NONSGML v1.0//EN
CALSCALE:GREGORIAN
METHOD:PUBLISH
X-WR-CALNAME:Dachverband des Deutschen Tchoukballs
X-ORIGINAL-URL:https://tchoukball-deutschland.de
X-WR-CALDESC:Veranstaltungen für Dachverband des Deutschen Tchoukballs
REFRESH-INTERVAL;VALUE=DURATION:PT1H
X-Robots-Tag:noindex
X-PUBLISHED-TTL:PT1H
BEGIN:VTIMEZONE
TZID:Europe/Berlin
BEGIN:DAYLIGHT
TZOFFSETFROM:+0100
TZOFFSETTO:+0200
TZNAME:CEST
DTSTART:20240331T010000
END:DAYLIGHT
BEGIN:STANDARD
TZOFFSETFROM:+0200
TZOFFSETTO:+0100
TZNAME:CET
DTSTART:20241027T010000
END:STANDARD
BEGIN:DAYLIGHT
TZOFFSETFROM:+0100
TZOFFSETTO:+0200
TZNAME:CEST
DTSTART:20250330T010000
END:DAYLIGHT
BEGIN:STANDARD
TZOFFSETFROM:+0200
TZOFFSETTO:+0100
TZNAME:CET
DTSTART:20251026T010000
END:STANDARD
BEGIN:DAYLIGHT
TZOFFSETFROM:+0100
TZOFFSETTO:+0200
TZNAME:CEST
DTSTART:20260329T010000
END:DAYLIGHT
BEGIN:STANDARD
TZOFFSETFROM:+0200
TZOFFSETTO:+0100
TZNAME:CET
DTSTART:20261025T010000
END:STANDARD
END:VTIMEZONE
BEGIN:VEVENT
DTSTART;TZID=Europe/Berlin:20251101T100000
DTEND;TZID=Europe/Berlin:20251102T170000
DTSTAMP:20260419T223556
CREATED:20251003T152856Z
LAST-MODIFIED:20251003T152856Z
UID:2024-1761991200-1762102800@tchoukball-deutschland.de
SUMMARY:Kadertraining Damen & Herren
DESCRIPTION:
URL:https://tchoukball-deutschland.de/veranstaltung/kadertraining-damen-herren/
LOCATION:Sporthalle Weimar West\, Warschauer Str. 30\, Weimar\, Thüringen\, 99427\, Germany
CATEGORIES:Kadertraining,Verbandsaktivität
ORGANIZER;CN="Dachverband des Deutschen Tchoukballs":MAILTO:info@tchoukball-deutschland.de
END:VEVENT
BEGIN:VEVENT
DTSTART;TZID=Europe/Berlin:20251115T083000
DTEND;TZID=Europe/Berlin:20251115T170000
DTSTAMP:20260419T223556
CREATED:20250825T140906Z
LAST-MODIFIED:20250901T103247Z
UID:1841-1763195400-1763226000@tchoukball-deutschland.de
SUMMARY:2. Spieltag der TTBL
DESCRIPTION:Der Thüringer Tchoukball Verband lädt zum zweiten Spieltag in der Saison 2025/2026 nach Weimar ein. 
URL:https://tchoukball-deutschland.de/veranstaltung/2-spieltag-der-ttbl/
LOCATION:Sporthalle Weimar West\, Warschauer Str. 30\, Weimar\, Thüringen\, 99427\, Germany
CATEGORIES:Vereinsaktivität
ORGANIZER;CN="Th%C3%BCringer Tchouballverband e.V.":MAILTO:info@ttbv.de
END:VEVENT
BEGIN:VEVENT
DTSTART;VALUE=DATE:20251122
DTEND;VALUE=DATE:20251124
DTSTAMP:20260419T223556
CREATED:20251003T153242Z
LAST-MODIFIED:20251116T121449Z
UID:2000-1763769600-1763942399@tchoukball-deutschland.de
SUMMARY:Internationales Tchouk Kids Tunier in Polen - Teilnahme M16-Kader
DESCRIPTION:Tchouk Kids 2025 – turniej międzynarodowy \n \n 
URL:https://tchoukball-deutschland.de/veranstaltung/high-five-tunier-in-polen-teilnahme-m16-kader/
CATEGORIES:Verbandsaktivität
END:VEVENT
END:VCALENDAR